BEGIN:VCALENDAR
VERSION:2.0
PRODID:-//Village Hall - ECPv6.2.0.1//NONSGML v1.0//EN
CALSCALE:GREGORIAN
METHOD:PUBLISH
X-WR-CALNAME:Village Hall
X-ORIGINAL-URL:https://southheighton.org
X-WR-CALDESC:Events for Village Hall
REFRESH-INTERVAL;VALUE=DURATION:PT1H
X-Robots-Tag:noindex
X-PUBLISHED-TTL:PT1H
BEGIN:VTIMEZONE
TZID:Europe/London
BEGIN:DAYLIGHT
TZOFFSETFROM:+0000
TZOFFSETTO:+0100
TZNAME:BST
DTSTART:20230326T010000
END:DAYLIGHT
BEGIN:STANDARD
TZOFFSETFROM:+0100
TZOFFSETTO:+0000
TZNAME:GMT
DTSTART:20231029T010000
END:STANDARD
END:VTIMEZONE
BEGIN:VEVENT
DTSTART;TZID=Europe/London:20231021T180000
DTEND;TZID=Europe/London:20231021T180000
DTSTAMP:20260424T074900
CREATED:20230905T145007Z
LAST-MODIFIED:20230905T161747Z
UID:420-1697911200-1697911200@southheighton.org
SUMMARY:Hailsham Bonfire
DESCRIPTION:SHBS members coach booked for 6pm from South Heighton Village Hall £13 for adults/£7 kids
URL:https://southheighton.org/event/hailsham-bonfire-shbs-coach-booked-for-6pm/
END:VEVENT
BEGIN:VEVENT
DTSTART;TZID=Europe/London:20231021T190000
DTEND;TZID=Europe/London:20231021T190000
DTSTAMP:20260424T074900
CREATED:20230905T151727Z
LAST-MODIFIED:20230905T161721Z
UID:440-1697914800-1697914800@southheighton.org
SUMMARY:Seaford Bonfire (restricted invite)
DESCRIPTION:SHBS have accepted the invite but make your own way there (by prior arrangement due to restricted numbers)
URL:https://southheighton.org/event/seaford-bonfire-restricted-invite/
END:VEVENT
END:VCALENDAR