BEGIN:VCALENDAR
VERSION:2.0
PRODID:-//Village Hall - ECPv6.2.0.1//NONSGML v1.0//EN
CALSCALE:GREGORIAN
METHOD:PUBLISH
X-ORIGINAL-URL:https://southheighton.org
X-WR-CALDESC:Events for Village Hall
REFRESH-INTERVAL;VALUE=DURATION:PT1H
X-Robots-Tag:noindex
X-PUBLISHED-TTL:PT1H
BEGIN:VTIMEZONE
TZID:Europe/London
BEGIN:DAYLIGHT
TZOFFSETFROM:+0000
TZOFFSETTO:+0100
TZNAME:BST
DTSTART:20230326T010000
END:DAYLIGHT
BEGIN:STANDARD
TZOFFSETFROM:+0100
TZOFFSETTO:+0000
TZNAME:GMT
DTSTART:20231029T010000
END:STANDARD
END:VTIMEZONE
BEGIN:VEVENT
DTSTART;TZID=Europe/London:20231014T173000
DTEND;TZID=Europe/London:20231014T173000
DTSTAMP:20260424T075045
CREATED:20230905T144916Z
LAST-MODIFIED:20230905T161807Z
UID:418-1697304600-1697304600@southheighton.org
SUMMARY:Heathfield Bonfire
DESCRIPTION:SHBS members coach booked for 5:30pm from South Heighton Village Hall £13 for adults/£7 kids
URL:https://southheighton.org/event/heathfield-bonfire-shbs-coach-booked-for-530pm/
END:VEVENT
END:VCALENDAR